BEGIN:VCALENDAR
VERSION:2.0
PRODID:-//Tukios.com/
BEGIN:VEVENT
UID:e58f7756-cc60-47e9-86ca-228f79ed732a@www.newdayfunerals.com
DTSTAMP:20260424T233117Z
DTSTART:20260501T200000Z
DTEND:20260502T000000Z
SUMMARY:Celebration of Life
DESCRIPTION:
URL:https://www.newdayfunerals.com/obituaries/eugene-pina-jr
LOCATION: 465 County St  New Bedford MA 02740
GEO:41.635397;-70.9309092
END:VEVENT
END:VCALENDAR