BEGIN:VCALENDAR
VERSION:2.0
PRODID:-//Tukios.com/
BEGIN:VEVENT
UID:c475fefe-e58e-4efe-ada9-710699968a31@www.newdayfunerals.com
DTSTAMP:20260421T204635Z
DTSTART:20260503T170000Z
DTEND:20260503T180000Z
SUMMARY:Celebration of Life
DESCRIPTION:
URL:https://www.newdayfunerals.com/obituaries/irving-salley
LOCATION:Sabatino's Trattoria 111 West Main Street  Norton MA 02766
GEO:41.9614019;-71.1998359
END:VEVENT
END:VCALENDAR