BEGIN:VCALENDAR
VERSION:2.0
PRODID:-//Tukios.com/
BEGIN:VEVENT
UID:5266e701-cbe8-4fb3-9d8a-da75185e6eae@www.newdayfunerals.com
DTSTAMP:20260421T204507Z
DTSTART:20260427T180000Z
DTEND:20260427T200000Z
SUMMARY:Memorial Service
DESCRIPTION:
URL:https://www.newdayfunerals.com/obituaries/lynn-manson-omalley-haven
LOCATION:Donaghy New Day Cremation & Funeral Care 465 County St  New 
	Bedford MA 02740
GEO:41.635397;-70.9309092
END:VEVENT
END:VCALENDAR