BEGIN:VCALENDAR
VERSION:2.0
PRODID:-//Tukios.com/
BEGIN:VEVENT
UID:00e47188-9d95-4986-a969-3593f05148ee@www.newdayfunerals.com
DTSTAMP:20260421T204141Z
DTSTART:20260502T183000Z
DTEND:20260502T193000Z
SUMMARY:Memorial Service
DESCRIPTION:
URL:https://www.newdayfunerals.com/obituaries/richard-jr
LOCATION:Kingdom Hall of Jehovah’s Witnesses 740 County Street  New 
	Bedford MA 02740
GEO:41.6462068;-70.9317012
END:VEVENT
END:VCALENDAR